BEGIN:VCALENDAR
VERSION:2.0
PRODID:-//VTO-Cromstrijen - ECPv6.15.20//NONSGML v1.0//EN
CALSCALE:GREGORIAN
METHOD:PUBLISH
X-ORIGINAL-URL:https://vto-cromstrijen.nl
X-WR-CALDESC:Evenementen voor VTO-Cromstrijen
REFRESH-INTERVAL;VALUE=DURATION:PT1H
X-Robots-Tag:noindex
X-PUBLISHED-TTL:PT1H
BEGIN:VTIMEZONE
TZID:Europe/Amsterdam
BEGIN:DAYLIGHT
TZOFFSETFROM:+0100
TZOFFSETTO:+0200
TZNAME:CEST
DTSTART:20250330T010000
END:DAYLIGHT
BEGIN:STANDARD
TZOFFSETFROM:+0200
TZOFFSETTO:+0100
TZNAME:CET
DTSTART:20251026T010000
END:STANDARD
BEGIN:DAYLIGHT
TZOFFSETFROM:+0100
TZOFFSETTO:+0200
TZNAME:CEST
DTSTART:20260329T010000
END:DAYLIGHT
BEGIN:STANDARD
TZOFFSETFROM:+0200
TZOFFSETTO:+0100
TZNAME:CET
DTSTART:20261025T010000
END:STANDARD
BEGIN:DAYLIGHT
TZOFFSETFROM:+0100
TZOFFSETTO:+0200
TZNAME:CEST
DTSTART:20270328T010000
END:DAYLIGHT
BEGIN:STANDARD
TZOFFSETFROM:+0200
TZOFFSETTO:+0100
TZNAME:CET
DTSTART:20271031T010000
END:STANDARD
END:VTIMEZONE
BEGIN:VEVENT
DTSTART;TZID=Europe/Amsterdam:20260306T190000
DTEND;TZID=Europe/Amsterdam:20260306T201500
DTSTAMP:20260423T011103
CREATED:20251023T112019Z
LAST-MODIFIED:20251216T124035Z
UID:3417-1772823600-1772828100@vto-cromstrijen.nl
SUMMARY:890  VTO J2 - Quo Vadis J1
DESCRIPTION:
URL:https://vto-cromstrijen.nl/event/890-vto-j2-quo-vadis-j1/
LOCATION:Sporthal de Bongerd\, Klaverbladstraat 3\, Klaaswaal\, 3266 VR\, Nederland
CATEGORIES:Competitie,Jeugd,VTO J2
END:VEVENT
BEGIN:VEVENT
DTSTART;TZID=Europe/Amsterdam:20260313T190000
DTEND;TZID=Europe/Amsterdam:20260109T201500
DTSTAMP:20260423T011103
CREATED:20251023T110338Z
LAST-MODIFIED:20260109T084919Z
UID:3399-1773428400-1767989700@vto-cromstrijen.nl
SUMMARY:809  VTO J1 - PBC J1
DESCRIPTION:
URL:https://vto-cromstrijen.nl/event/809-vto-j1-pbc-j1/
LOCATION:Sporthal de Bongerd\, Klaverbladstraat 3\, Klaaswaal\, 3266 VR\, Nederland
CATEGORIES:Competitie,Jeugd,VTO J1
END:VEVENT
BEGIN:VEVENT
DTSTART;TZID=Europe/Amsterdam:20260313T201500
DTEND;TZID=Europe/Amsterdam:20260313T223000
DTSTAMP:20260423T011103
CREATED:20250810T105124Z
LAST-MODIFIED:20250810T105126Z
UID:3271-1773432900-1773441000@vto-cromstrijen.nl
SUMMARY:541  VTO 4 - Quo Vadis 4
DESCRIPTION:
URL:https://vto-cromstrijen.nl/event/541-vto-4-quo-vadis-4/
LOCATION:Sporthal de Bongerd\, Klaverbladstraat 3\, Klaaswaal\, 3266 VR\, Nederland
CATEGORIES:Competitie,Senioren,VTO 4
END:VEVENT
BEGIN:VEVENT
DTSTART;TZID=Europe/Amsterdam:20260327T080000
DTEND;TZID=Europe/Amsterdam:20260327T170000
DTSTAMP:20260423T011103
CREATED:20250805T140519Z
LAST-MODIFIED:20250805T140521Z
UID:3260-1774598400-1774630800@vto-cromstrijen.nl
SUMMARY:450  VTO 3 - Space Shuttle 2
DESCRIPTION:
URL:https://vto-cromstrijen.nl/event/450-vto-3-space-shuttle-2/
LOCATION:Sporthal de Bongerd\, Klaverbladstraat 3\, Klaaswaal\, 3266 VR\, Nederland
CATEGORIES:Competitie,Senioren,VTO 3
END:VEVENT
BEGIN:VEVENT
DTSTART;TZID=Europe/Amsterdam:20260407T200000
DTEND;TZID=Europe/Amsterdam:20260407T220000
DTSTAMP:20260423T011103
CREATED:20250805T115617Z
LAST-MODIFIED:20260326T084515Z
UID:3230-1775592000-1775599200@vto-cromstrijen.nl
SUMMARY:145  VTO 1 - Quo Vadis 1
DESCRIPTION:
URL:https://vto-cromstrijen.nl/event/145-vto-1-quo-vadis-1/
LOCATION:Sporthal Cromstrijen\, Buttervliet 3\, Numansdorp\, Zuid-Holland\, 3281 LK\, Nederland
CATEGORIES:Competitie,Senioren,VTO 1
END:VEVENT
BEGIN:VEVENT
DTSTART;TZID=Europe/Amsterdam:20260410T201500
DTEND;TZID=Europe/Amsterdam:20260410T223000
DTSTAMP:20260423T011103
CREATED:20250805T133512Z
LAST-MODIFIED:20250805T134623Z
UID:3244-1775852100-1775860200@vto-cromstrijen.nl
SUMMARY:345  VTO 2 - ABC Swindregt 2
DESCRIPTION:
URL:https://vto-cromstrijen.nl/event/345-vto-2-abc-swindregt-2/
LOCATION:Sporthal de Bongerd\, Klaverbladstraat 3\, Klaaswaal\, 3266 VR\, Nederland
CATEGORIES:Competitie,Senioren,VTO 2
END:VEVENT
BEGIN:VEVENT
DTSTART;TZID=Europe/Amsterdam:20260410T201500
DTEND;TZID=Europe/Amsterdam:20260410T223000
DTSTAMP:20260423T011103
CREATED:20250810T105313Z
LAST-MODIFIED:20250810T110037Z
UID:3273-1775852100-1775860200@vto-cromstrijen.nl
SUMMARY:552 VTO 4 - PBC 4
DESCRIPTION:
URL:https://vto-cromstrijen.nl/event/552-vto-4-pbc-4/
LOCATION:Sporthal de Bongerd\, Klaverbladstraat 3\, Klaaswaal\, 3266 VR\, Nederland
CATEGORIES:Competitie,Senioren,VTO 4
END:VEVENT
BEGIN:VEVENT
DTSTART;TZID=Europe/Amsterdam:20260416T200000
DTEND;TZID=Europe/Amsterdam:20260416T223000
DTSTAMP:20260423T011103
CREATED:20250819T132123Z
LAST-MODIFIED:20250819T132124Z
UID:3328-1776369600-1776378600@vto-cromstrijen.nl
SUMMARY:556  BSM 3 - VTO 4
DESCRIPTION:
URL:https://vto-cromstrijen.nl/event/556-bsm-3-vto-4/
LOCATION:Sporthal Duyvesteyn\, Fazant 3\, Maasdam\, 3299 BS\, Netherlands
CATEGORIES:Competitie,Senioren,VTO 4
END:VEVENT
BEGIN:VEVENT
DTSTART;TZID=Europe/Amsterdam:20260508T201500
DTEND;TZID=Europe/Amsterdam:20260508T223000
DTSTAMP:20260423T011103
CREATED:20250805T115849Z
LAST-MODIFIED:20260212T160435Z
UID:3232-1778271300-1778279400@vto-cromstrijen.nl
SUMMARY:149  VTO 1 - BSM 1
DESCRIPTION:
URL:https://vto-cromstrijen.nl/event/149-vto-1-bsm-1/
LOCATION:Sporthal de Bongerd\, Klaverbladstraat 3\, Klaaswaal\, 3266 VR\, Nederland
CATEGORIES:Competitie,Senioren,VTO 1
END:VEVENT
BEGIN:VEVENT
DTSTART;TZID=Europe/Amsterdam:20260601T190000
DTEND;TZID=Europe/Amsterdam:20260601T201500
DTSTAMP:20260423T011103
CREATED:20251023T111624Z
LAST-MODIFIED:20260109T085054Z
UID:3413-1780340400-1780344900@vto-cromstrijen.nl
SUMMARY:868  VTO J2 - Network J2 wordt verzet
DESCRIPTION:
URL:https://vto-cromstrijen.nl/event/868-vto-j2-network-j2/
LOCATION:Sporthal de Bongerd\, Klaverbladstraat 3\, Klaaswaal\, 3266 VR\, Nederland
CATEGORIES:Competitie,Jeugd,VTO J2
END:VEVENT
END:VCALENDAR