BEGIN:VCALENDAR
VERSION:2.0
PRODID:-//VTO-Cromstrijen - ECPv6.15.20//NONSGML v1.0//EN
CALSCALE:GREGORIAN
METHOD:PUBLISH
X-ORIGINAL-URL:https://vto-cromstrijen.nl
X-WR-CALDESC:Evenementen voor VTO-Cromstrijen
REFRESH-INTERVAL;VALUE=DURATION:PT1H
X-Robots-Tag:noindex
X-PUBLISHED-TTL:PT1H
BEGIN:VTIMEZONE
TZID:Europe/Amsterdam
BEGIN:DAYLIGHT
TZOFFSETFROM:+0100
TZOFFSETTO:+0200
TZNAME:CEST
DTSTART:20250330T010000
END:DAYLIGHT
BEGIN:STANDARD
TZOFFSETFROM:+0200
TZOFFSETTO:+0100
TZNAME:CET
DTSTART:20251026T010000
END:STANDARD
BEGIN:DAYLIGHT
TZOFFSETFROM:+0100
TZOFFSETTO:+0200
TZNAME:CEST
DTSTART:20260329T010000
END:DAYLIGHT
BEGIN:STANDARD
TZOFFSETFROM:+0200
TZOFFSETTO:+0100
TZNAME:CET
DTSTART:20261025T010000
END:STANDARD
BEGIN:DAYLIGHT
TZOFFSETFROM:+0100
TZOFFSETTO:+0200
TZNAME:CEST
DTSTART:20270328T010000
END:DAYLIGHT
BEGIN:STANDARD
TZOFFSETFROM:+0200
TZOFFSETTO:+0100
TZNAME:CET
DTSTART:20271031T010000
END:STANDARD
END:VTIMEZONE
BEGIN:VEVENT
DTSTART;TZID=Europe/Amsterdam:20260416T200000
DTEND;TZID=Europe/Amsterdam:20260416T223000
DTSTAMP:20260423T024903
CREATED:20250819T132123Z
LAST-MODIFIED:20250819T132124Z
UID:3328-1776369600-1776378600@vto-cromstrijen.nl
SUMMARY:556  BSM 3 - VTO 4
DESCRIPTION:
URL:https://vto-cromstrijen.nl/event/556-bsm-3-vto-4/
LOCATION:Sporthal Duyvesteyn\, Fazant 3\, Maasdam\, 3299 BS\, Netherlands
CATEGORIES:Competitie,Senioren,VTO 4
END:VEVENT
BEGIN:VEVENT
DTSTART;TZID=Europe/Amsterdam:20260410T201500
DTEND;TZID=Europe/Amsterdam:20260410T223000
DTSTAMP:20260423T024903
CREATED:20250810T105313Z
LAST-MODIFIED:20250810T110037Z
UID:3273-1775852100-1775860200@vto-cromstrijen.nl
SUMMARY:552 VTO 4 - PBC 4
DESCRIPTION:
URL:https://vto-cromstrijen.nl/event/552-vto-4-pbc-4/
LOCATION:Sporthal de Bongerd\, Klaverbladstraat 3\, Klaaswaal\, 3266 VR\, Nederland
CATEGORIES:Competitie,Senioren,VTO 4
END:VEVENT
BEGIN:VEVENT
DTSTART;TZID=Europe/Amsterdam:20260410T201500
DTEND;TZID=Europe/Amsterdam:20260410T223000
DTSTAMP:20260423T024903
CREATED:20250805T133512Z
LAST-MODIFIED:20250805T134623Z
UID:3244-1775852100-1775860200@vto-cromstrijen.nl
SUMMARY:345  VTO 2 - ABC Swindregt 2
DESCRIPTION:
URL:https://vto-cromstrijen.nl/event/345-vto-2-abc-swindregt-2/
LOCATION:Sporthal de Bongerd\, Klaverbladstraat 3\, Klaaswaal\, 3266 VR\, Nederland
CATEGORIES:Competitie,Senioren,VTO 2
END:VEVENT
BEGIN:VEVENT
DTSTART;TZID=Europe/Amsterdam:20260407T200000
DTEND;TZID=Europe/Amsterdam:20260407T220000
DTSTAMP:20260423T024903
CREATED:20250805T115617Z
LAST-MODIFIED:20260326T084515Z
UID:3230-1775592000-1775599200@vto-cromstrijen.nl
SUMMARY:145  VTO 1 - Quo Vadis 1
DESCRIPTION:
URL:https://vto-cromstrijen.nl/event/145-vto-1-quo-vadis-1/
LOCATION:Sporthal Cromstrijen\, Buttervliet 3\, Numansdorp\, Zuid-Holland\, 3281 LK\, Nederland
CATEGORIES:Competitie,Senioren,VTO 1
END:VEVENT
BEGIN:VEVENT
DTSTART;TZID=Europe/Amsterdam:20260327T080000
DTEND;TZID=Europe/Amsterdam:20260327T170000
DTSTAMP:20260423T024903
CREATED:20250805T140519Z
LAST-MODIFIED:20250805T140521Z
UID:3260-1774598400-1774630800@vto-cromstrijen.nl
SUMMARY:450  VTO 3 - Space Shuttle 2
DESCRIPTION:
URL:https://vto-cromstrijen.nl/event/450-vto-3-space-shuttle-2/
LOCATION:Sporthal de Bongerd\, Klaverbladstraat 3\, Klaaswaal\, 3266 VR\, Nederland
CATEGORIES:Competitie,Senioren,VTO 3
END:VEVENT
BEGIN:VEVENT
DTSTART;TZID=Europe/Amsterdam:20260313T201500
DTEND;TZID=Europe/Amsterdam:20260313T223000
DTSTAMP:20260423T024903
CREATED:20250810T105124Z
LAST-MODIFIED:20250810T105126Z
UID:3271-1773432900-1773441000@vto-cromstrijen.nl
SUMMARY:541  VTO 4 - Quo Vadis 4
DESCRIPTION:
URL:https://vto-cromstrijen.nl/event/541-vto-4-quo-vadis-4/
LOCATION:Sporthal de Bongerd\, Klaverbladstraat 3\, Klaaswaal\, 3266 VR\, Nederland
CATEGORIES:Competitie,Senioren,VTO 4
END:VEVENT
BEGIN:VEVENT
DTSTART;TZID=Europe/Amsterdam:20260302T191500
DTEND;TZID=Europe/Amsterdam:20260302T214500
DTSTAMP:20260423T024903
CREATED:20250819T131729Z
LAST-MODIFIED:20260113T095152Z
UID:3324-1772478900-1772487900@vto-cromstrijen.nl
SUMMARY:538  ABC Swindregt 3 - VTO 4
DESCRIPTION:
URL:https://vto-cromstrijen.nl/event/538-abc-swindregt-3-vto-4/
LOCATION:Sporthal de Hofstede\, Hofsingel 93\, Maasland\, Nederland
CATEGORIES:Competitie,Senioren,VTO 4
END:VEVENT
BEGIN:VEVENT
DTSTART;TZID=Europe/Amsterdam:20260227T201500
DTEND;TZID=Europe/Amsterdam:20260227T223000
DTSTAMP:20260423T024903
CREATED:20250805T140401Z
LAST-MODIFIED:20250805T140403Z
UID:3258-1772223300-1772231400@vto-cromstrijen.nl
SUMMARY:438  VTO 3 - PBC 3
DESCRIPTION:
URL:https://vto-cromstrijen.nl/event/438-vto-3-pbc-3/
LOCATION:Sporthal de Bongerd\, Klaverbladstraat 3\, Klaaswaal\, 3266 VR\, Nederland
CATEGORIES:Competitie,Senioren,VTO 3
END:VEVENT
BEGIN:VEVENT
DTSTART;TZID=Europe/Amsterdam:20260218T194500
DTEND;TZID=Europe/Amsterdam:20260218T221500
DTSTAMP:20260423T024903
CREATED:20250819T131340Z
LAST-MODIFIED:20251013T125933Z
UID:3320-1771443900-1771452900@vto-cromstrijen.nl
SUMMARY:503  Barendrecht 1 - VTO 4
DESCRIPTION:
URL:https://vto-cromstrijen.nl/event/503-barendrecht-1-vto-4/
LOCATION:Sporthal Waterpoort\, Middeldijkerplein 9\, Barendrecht\, 2993 DL\, Netherlands
CATEGORIES:Competitie,Senioren,VTO 4
END:VEVENT
BEGIN:VEVENT
DTSTART;TZID=Europe/Amsterdam:20260213T201500
DTEND;TZID=Europe/Amsterdam:20260213T223000
DTSTAMP:20260423T024903
CREATED:20250805T133325Z
LAST-MODIFIED:20250805T134631Z
UID:3242-1771013700-1771021800@vto-cromstrijen.nl
SUMMARY:337  VTO 2 - BCA 2
DESCRIPTION:
URL:https://vto-cromstrijen.nl/event/337-vto-2-bca-2/
LOCATION:Sporthal de Bongerd\, Klaverbladstraat 3\, Klaaswaal\, 3266 VR\, Nederland
CATEGORIES:Competitie,Senioren,VTO 2
END:VEVENT
BEGIN:VEVENT
DTSTART;TZID=Europe/Amsterdam:20260213T201500
DTEND;TZID=Europe/Amsterdam:20260213T223000
DTSTAMP:20260423T024903
CREATED:20250805T115416Z
LAST-MODIFIED:20250805T134503Z
UID:3228-1771013700-1771021800@vto-cromstrijen.nl
SUMMARY:137  VTO 1 - Flying Shuttle 1
DESCRIPTION:
URL:https://vto-cromstrijen.nl/event/137-vto-1-flying-shuttle-1/
LOCATION:Sporthal de Bongerd\, Klaverbladstraat 3\, Klaaswaal\, 3266 VR\, Nederland
CATEGORIES:Competitie,Senioren,VTO 1
END:VEVENT
BEGIN:VEVENT
DTSTART;TZID=Europe/Amsterdam:20260206T201500
DTEND;TZID=Europe/Amsterdam:20260206T223000
DTSTAMP:20260423T024903
CREATED:20250805T140215Z
LAST-MODIFIED:20250805T140217Z
UID:3256-1770408900-1770417000@vto-cromstrijen.nl
SUMMARY:434  VTO 3 - Puba 2
DESCRIPTION:
URL:https://vto-cromstrijen.nl/event/434-vto-3-puba-2/
LOCATION:Sporthal de Bongerd\, Klaverbladstraat 3\, Klaaswaal\, 3266 VR\, Nederland
CATEGORIES:Competitie,Senioren,VTO 3
END:VEVENT
BEGIN:VEVENT
DTSTART;TZID=Europe/Amsterdam:20260206T201500
DTEND;TZID=Europe/Amsterdam:20260206T223000
DTSTAMP:20260423T024903
CREATED:20250805T115107Z
LAST-MODIFIED:20250805T134512Z
UID:3226-1770408900-1770417000@vto-cromstrijen.nl
SUMMARY:125  VTO 1 - Quo Vadis 3
DESCRIPTION:
URL:https://vto-cromstrijen.nl/event/125-vto-1-quo-vadis-3/
LOCATION:Sporthal de Bongerd\, Klaverbladstraat 3\, Klaaswaal\, 3266 VR\, Nederland
CATEGORIES:Competitie,Senioren,VTO 1
END:VEVENT
BEGIN:VEVENT
DTSTART;TZID=Europe/Amsterdam:20260130T201500
DTEND;TZID=Europe/Amsterdam:20260130T223000
DTSTAMP:20260423T024903
CREATED:20250810T104754Z
LAST-MODIFIED:20250810T104755Z
UID:3269-1769804100-1769812200@vto-cromstrijen.nl
SUMMARY:531  VTO 4 - BC Barendrecht 1
DESCRIPTION:
URL:https://vto-cromstrijen.nl/event/531-vto-4-bc-barendrecht-1/
LOCATION:Sporthal de Bongerd\, Klaverbladstraat 3\, Klaaswaal\, 3266 VR\, Nederland
CATEGORIES:Competitie,Senioren,VTO 4
END:VEVENT
BEGIN:VEVENT
DTSTART;TZID=Europe/Amsterdam:20260130T201500
DTEND;TZID=Europe/Amsterdam:20260130T223000
DTSTAMP:20260423T024903
CREATED:20250805T140012Z
LAST-MODIFIED:20250805T140015Z
UID:3254-1769804100-1769812200@vto-cromstrijen.nl
SUMMARY:454  VTO 3 - BC GO 1
DESCRIPTION:
URL:https://vto-cromstrijen.nl/event/454-vto-3-bc-go-1/
LOCATION:Sporthal de Bongerd\, Klaverbladstraat 3\, Klaaswaal\, 3266 VR\, Nederland
CATEGORIES:Competitie,Senioren,VTO 3
END:VEVENT
BEGIN:VEVENT
DTSTART;TZID=Europe/Amsterdam:20260123T201500
DTEND;TZID=Europe/Amsterdam:20260123T223000
DTSTAMP:20260423T024903
CREATED:20250805T135414Z
LAST-MODIFIED:20251216T121511Z
UID:3248-1769199300-1769207400@vto-cromstrijen.nl
SUMMARY:401  VTO 3 - BCN Rhoon 2
DESCRIPTION:
URL:https://vto-cromstrijen.nl/event/401-vto-3-bcn-rhoon-2/
LOCATION:Sporthal de Bongerd\, Klaverbladstraat 3\, Klaaswaal\, 3266 VR\, Nederland
CATEGORIES:Competitie,Senioren,VTO 3
END:VEVENT
END:VCALENDAR