BEGIN:VCALENDAR
VERSION:2.0
PRODID:-//VTO-Cromstrijen - ECPv6.15.20//NONSGML v1.0//EN
CALSCALE:GREGORIAN
METHOD:PUBLISH
X-WR-CALNAME:VTO-Cromstrijen
X-ORIGINAL-URL:https://vto-cromstrijen.nl
X-WR-CALDESC:Evenementen voor VTO-Cromstrijen
REFRESH-INTERVAL;VALUE=DURATION:PT1H
X-Robots-Tag:noindex
X-PUBLISHED-TTL:PT1H
BEGIN:VTIMEZONE
TZID:Europe/Amsterdam
BEGIN:DAYLIGHT
TZOFFSETFROM:+0100
TZOFFSETTO:+0200
TZNAME:CEST
DTSTART:20250330T010000
END:DAYLIGHT
BEGIN:STANDARD
TZOFFSETFROM:+0200
TZOFFSETTO:+0100
TZNAME:CET
DTSTART:20251026T010000
END:STANDARD
BEGIN:DAYLIGHT
TZOFFSETFROM:+0100
TZOFFSETTO:+0200
TZNAME:CEST
DTSTART:20260329T010000
END:DAYLIGHT
BEGIN:STANDARD
TZOFFSETFROM:+0200
TZOFFSETTO:+0100
TZNAME:CET
DTSTART:20261025T010000
END:STANDARD
BEGIN:DAYLIGHT
TZOFFSETFROM:+0100
TZOFFSETTO:+0200
TZNAME:CEST
DTSTART:20270328T010000
END:DAYLIGHT
BEGIN:STANDARD
TZOFFSETFROM:+0200
TZOFFSETTO:+0100
TZNAME:CET
DTSTART:20271031T010000
END:STANDARD
END:VTIMEZONE
BEGIN:VEVENT
DTSTART;TZID=Europe/Amsterdam:20260207T000000
DTEND;TZID=Europe/Amsterdam:20260207T235959
DTSTAMP:20260423T000403
CREATED:20260118T132641Z
LAST-MODIFIED:20260118T132718Z
UID:3838-1770422400-1770508799@vto-cromstrijen.nl
SUMMARY:PBC open Seniorentoernooi
DESCRIPTION:
URL:https://vto-cromstrijen.nl/event/pbc-open-seniorenteornooi/
LOCATION:Sportcentrum Papendrecht\, Burgemeester Keijzerweg 110\, Papendrecht\, Nederland
CATEGORIES:Toernooi
END:VEVENT
BEGIN:VEVENT
DTSTART;TZID=Europe/Amsterdam:20260214T083000
DTEND;TZID=Europe/Amsterdam:20260214T160000
DTSTAMP:20260423T000403
CREATED:20250420T125743Z
LAST-MODIFIED:20250420T125836Z
UID:3085-1771057800-1771084800@vto-cromstrijen.nl
SUMMARY:VTO-POB Jeugd Toernooi
DESCRIPTION:
URL:https://vto-cromstrijen.nl/event/vto-pob-jeugd-toernooi/
LOCATION:Sporthal Cromstrijen\, Buttervliet 3\, Numansdorp\, Zuid-Holland\, 3281 LK\, Nederland
CATEGORIES:Toernooi
END:VEVENT
BEGIN:VEVENT
DTSTART;TZID=Europe/Amsterdam:20260307T000000
DTEND;TZID=Europe/Amsterdam:20260307T235959
DTSTAMP:20260423T000403
CREATED:20251223T165723Z
LAST-MODIFIED:20251223T165754Z
UID:3821-1772841600-1772927999@vto-cromstrijen.nl
SUMMARY:LRTT
DESCRIPTION:
URL:https://vto-cromstrijen.nl/event/lrtt/
LOCATION:Sportcomplex Valkenhuizen\, Beukenlaan 15-23\, Arnhem\, 6823 MA\, Nederland
CATEGORIES:Toernooi
ORGANIZER;CN="Badminton Nederland":MAILTO:info@badminton.nl
END:VEVENT
BEGIN:VEVENT
DTSTART;TZID=Europe/Amsterdam:20260314T000000
DTEND;TZID=Europe/Amsterdam:20260314T235959
DTSTAMP:20260423T000403
CREATED:20260118T132136Z
LAST-MODIFIED:20260118T132844Z
UID:3836-1773446400-1773532799@vto-cromstrijen.nl
SUMMARY:BC Quo Vadis Seniorentoernooi
DESCRIPTION:
URL:https://vto-cromstrijen.nl/event/seniorentoernooi-bc-quo-vadis/
LOCATION:Het Dorpshart\, Van der Stratenplein 2\, Mijnsherenland\, 3271 SH\, Nederland
CATEGORIES:Toernooi
END:VEVENT
BEGIN:VEVENT
DTSTART;TZID=Europe/Amsterdam:20260411T000000
DTEND;TZID=Europe/Amsterdam:20260411T235959
DTSTAMP:20260423T000403
CREATED:20260109T150707Z
LAST-MODIFIED:20260312T121851Z
UID:3832-1775865600-1775951999@vto-cromstrijen.nl
SUMMARY:ABC Swindregt Team Toernooi
DESCRIPTION:Toernooi abcswindregt_2026Downloaden
URL:https://vto-cromstrijen.nl/event/abc-swindrecht-team-toernooi/
LOCATION:Sporthal de Develhal\, Parklaan 5\, Zwijndrecht\, 3335 LM\, Nederland
CATEGORIES:Toernooi
ORGANIZER;CN="ABC Swindregt":MAILTO:info@abcswindregt.nl
END:VEVENT
BEGIN:VEVENT
DTSTART;TZID=Europe/Amsterdam:20260411T000000
DTEND;TZID=Europe/Amsterdam:20260411T235959
DTSTAMP:20260423T000403
CREATED:20260308T121556Z
LAST-MODIFIED:20260308T121843Z
UID:3989-1775865600-1775951999@vto-cromstrijen.nl
SUMMARY:B.C. Poona Recreanten Senioren Toernooi 2026
DESCRIPTION:INSCHRIJFFORMULIER
URL:https://vto-cromstrijen.nl/event/b-c-poona-recreanten-senioren-toernooi-2026/
LOCATION:Sporthal De Boogerd\, Hortensiastraat 5\, Oud-Beijerland\, 3261 BG\, Nederland
CATEGORIES:Toernooi
ORGANIZER;CN="POB":MAILTO:pobseniorentoernooi@gmail.com
END:VEVENT
BEGIN:VEVENT
DTSTART;TZID=Europe/Amsterdam:20260509T000000
DTEND;TZID=Europe/Amsterdam:20260509T235959
DTSTAMP:20260423T000403
CREATED:20251223T170858Z
LAST-MODIFIED:20260305T124937Z
UID:3826-1778284800-1778371199@vto-cromstrijen.nl
SUMMARY:'Glow in the dark' jeugd toernooi
DESCRIPTION:Inschrijfformulier
URL:https://vto-cromstrijen.nl/event/glow-in-the-dark-jeugd-toernooi/
LOCATION:Sporthal De Kees van Kerkhal\, Laning 3\, Puttershoek\, 3297 TB\, Nederland
CATEGORIES:Toernooi
ORGANIZER;CN="PUBA":MAILTO:toernooi@puba.info
END:VEVENT
BEGIN:VEVENT
DTSTART;TZID=Europe/Amsterdam:20260509T083000
DTEND;TZID=Europe/Amsterdam:20260509T170000
DTSTAMP:20260423T000403
CREATED:20251223T170223Z
LAST-MODIFIED:20251223T170225Z
UID:3823-1778315400-1778346000@vto-cromstrijen.nl
SUMMARY:Strijen Senioren Badminton Toernooi
DESCRIPTION:Toernooi Strijen Flyer 2026Downloaden
URL:https://vto-cromstrijen.nl/event/strijen-senioren-badminton-toernooi/
LOCATION:Laco Strijen\, Sportlaan 4\, Strijen\, 3291 TN\, Netherlands
CATEGORIES:Toernooi
ORGANIZER;CN="BV Strijen":MAILTO:info@bvstrijen.nl
END:VEVENT
BEGIN:VEVENT
DTSTART;TZID=Europe/Amsterdam:20260530T080000
DTEND;TZID=Europe/Amsterdam:20260530T180000
DTSTAMP:20260423T000403
CREATED:20250709T131343Z
LAST-MODIFIED:20260409T102846Z
UID:3156-1780128000-1780164000@vto-cromstrijen.nl
SUMMARY:VTO Club Toernooi
DESCRIPTION:
URL:https://vto-cromstrijen.nl/event/vto-club-kampioenschappen/
LOCATION:Sporthal de Bongerd\, Klaverbladstraat 3\, Klaaswaal\, 3266 VR\, Nederland
CATEGORIES:Toernooi
END:VEVENT
BEGIN:VEVENT
DTSTART;TZID=Europe/Amsterdam:20260612T190000
DTEND;TZID=Europe/Amsterdam:20260612T230000
DTSTAMP:20260423T000403
CREATED:20250709T131529Z
LAST-MODIFIED:20260409T103034Z
UID:3158-1781290800-1781305200@vto-cromstrijen.nl
SUMMARY:VTO Bedrijven Toernooi
DESCRIPTION:
URL:https://vto-cromstrijen.nl/event/vto-bedrijven-toernooi/
LOCATION:Sporthal Cromstrijen\, Buttervliet 3\, Numansdorp\, Zuid-Holland\, 3281 LK\, Nederland
CATEGORIES:Toernooi
END:VEVENT
BEGIN:VEVENT
DTSTART;TZID=Europe/Amsterdam:20260620T083000
DTEND;TZID=Europe/Amsterdam:20260620T163000
DTSTAMP:20260423T000403
CREATED:20260317T130452Z
LAST-MODIFIED:20260317T130711Z
UID:4000-1781944200-1781973000@vto-cromstrijen.nl
SUMMARY:BSM Zomertoernooi
DESCRIPTION:
URL:https://vto-cromstrijen.nl/event/bsm-zomertoernooi/
LOCATION:Sporthal Duyvesteyn\, Fazant 3\, Maasdam\, 3299 BS\, Netherlands
CATEGORIES:Toernooi
ORGANIZER;CN="BS Maasdam":MAILTO:secretariaat@smashingmaasdam.nl
END:VEVENT
BEGIN:VEVENT
DTSTART;TZID=Europe/Amsterdam:20260707T190000
DTEND;TZID=Europe/Amsterdam:20260707T203000
DTSTAMP:20260423T000403
CREATED:20250818T154935Z
LAST-MODIFIED:20250818T155125Z
UID:3297-1783450800-1783456200@vto-cromstrijen.nl
SUMMARY:Kind-Ouder Toernooi
DESCRIPTION:
URL:https://vto-cromstrijen.nl/event/kind-ouder-toernooi/
LOCATION:Sporthal Cromstrijen\, Buttervliet 3\, Numansdorp\, Zuid-Holland\, 3281 LK\, Nederland
CATEGORIES:Toernooi
END:VEVENT
BEGIN:VEVENT
DTSTART;TZID=Europe/Amsterdam:20260926T000000
DTEND;TZID=Europe/Amsterdam:20260926T235959
DTSTAMP:20260423T000403
CREATED:20260407T074415Z
LAST-MODIFIED:20260407T074417Z
UID:4016-1790380800-1790467199@vto-cromstrijen.nl
SUMMARY:TFS Open Recreanten Toernooi
DESCRIPTION:
URL:https://vto-cromstrijen.nl/event/tfs-open-recreanten-toernooi/
LOCATION:Sportcentrum Lagewei\, Ploegwei 3\, Barendrecht\, 2992 ZC\, Nederland
CATEGORIES:Toernooi
ORGANIZER;CN="TFS Barendrecht":MAILTO:toernooitfs@gmail.com
END:VEVENT
BEGIN:VEVENT
DTSTART;TZID=Europe/Amsterdam:20261114T000000
DTEND;TZID=Europe/Amsterdam:20261114T235959
DTSTAMP:20260423T000403
CREATED:20260308T131436Z
LAST-MODIFIED:20260308T131438Z
UID:3991-1794614400-1794700799@vto-cromstrijen.nl
SUMMARY:VTO Recreanten Toernooi 2026
DESCRIPTION:
URL:https://vto-cromstrijen.nl/event/vto-recreanten-toernooi-2026/
LOCATION:Sporthal Cromstrijen\, Buttervliet 3\, Numansdorp\, Zuid-Holland\, 3281 LK\, Nederland
CATEGORIES:Toernooi
END:VEVENT
END:VCALENDAR