BEGIN:VCALENDAR
VERSION:2.0
PRODID:-//VTO-Cromstrijen - ECPv6.15.20//NONSGML v1.0//EN
CALSCALE:GREGORIAN
METHOD:PUBLISH
X-ORIGINAL-URL:https://vto-cromstrijen.nl
X-WR-CALDESC:Evenementen voor VTO-Cromstrijen
REFRESH-INTERVAL;VALUE=DURATION:PT1H
X-Robots-Tag:noindex
X-PUBLISHED-TTL:PT1H
BEGIN:VTIMEZONE
TZID:Europe/Amsterdam
BEGIN:DAYLIGHT
TZOFFSETFROM:+0100
TZOFFSETTO:+0200
TZNAME:CEST
DTSTART:20250330T010000
END:DAYLIGHT
BEGIN:STANDARD
TZOFFSETFROM:+0200
TZOFFSETTO:+0100
TZNAME:CET
DTSTART:20251026T010000
END:STANDARD
BEGIN:DAYLIGHT
TZOFFSETFROM:+0100
TZOFFSETTO:+0200
TZNAME:CEST
DTSTART:20260329T010000
END:DAYLIGHT
BEGIN:STANDARD
TZOFFSETFROM:+0200
TZOFFSETTO:+0100
TZNAME:CET
DTSTART:20261025T010000
END:STANDARD
BEGIN:DAYLIGHT
TZOFFSETFROM:+0100
TZOFFSETTO:+0200
TZNAME:CEST
DTSTART:20270328T010000
END:DAYLIGHT
BEGIN:STANDARD
TZOFFSETFROM:+0200
TZOFFSETTO:+0100
TZNAME:CET
DTSTART:20271031T010000
END:STANDARD
END:VTIMEZONE
BEGIN:VEVENT
DTSTART;TZID=Europe/Amsterdam:20260403T000000
DTEND;TZID=Europe/Amsterdam:20260403T235959
DTSTAMP:20260419T160547
CREATED:20250709T133154Z
LAST-MODIFIED:20250709T133156Z
UID:3170-1775174400-1775260799@vto-cromstrijen.nl
SUMMARY:Goede vrijdag. Géén badminton!
DESCRIPTION:
URL:https://vto-cromstrijen.nl/event/goede-vrijdag-geen-badminton-2/
LOCATION:Zuid-Holland
CATEGORIES:Vakantie
END:VEVENT
BEGIN:VEVENT
DTSTART;TZID=Europe/Amsterdam:20260220T000000
DTEND;TZID=Europe/Amsterdam:20260220T235959
DTSTAMP:20260419T160547
CREATED:20250709T133007Z
LAST-MODIFIED:20250709T133008Z
UID:3168-1771545600-1771631999@vto-cromstrijen.nl
SUMMARY:Voorjaarsvakantie. Géén badminton
DESCRIPTION:
URL:https://vto-cromstrijen.nl/event/voorjaarsvakantie-geen-badminton/
LOCATION:Zuid-Holland
CATEGORIES:Vakantie
END:VEVENT
BEGIN:VEVENT
DTSTART;TZID=Europe/Amsterdam:20260217T200000
DTEND;TZID=Europe/Amsterdam:20260217T220000
DTSTAMP:20260419T160547
CREATED:20250709T132843Z
LAST-MODIFIED:20250709T134927Z
UID:3166-1771358400-1771365600@vto-cromstrijen.nl
SUMMARY:Vakantie badminton!
DESCRIPTION:Kom gezellig vrijspelen!
URL:https://vto-cromstrijen.nl/event/vakantie-badminton-2/
LOCATION:Sporthal Cromstrijen\, Buttervliet 3\, Numansdorp\, Zuid-Holland\, 3281 LK\, Nederland
CATEGORIES:Vakantie
END:VEVENT
END:VCALENDAR